BEGIN:VCALENDAR
VERSION:2.0
PRODID:-//Kagai Event News//WordPress//JA
CALSCALE:GREGORIAN
METHOD:PUBLISH
BEGIN:VTIMEZONE
TZID:Asia/Tokyo
BEGIN:STANDARD
DTSTART:19700101T000000
TZOFFSETFROM:+0900
TZOFFSETTO:+0900
TZNAME:JST
END:STANDARD
END:VTIMEZONE
BEGIN:VEVENT
UID:328d2952843343c36042869aa9d58078@kagai-event-news.com
DTSTAMP:20260419T153419Z
DTSTART;TZID=Asia/Tokyo:20260613T103000
DTEND;TZID=Asia/Tokyo:20260613T113000
SUMMARY:第8回 京都 萬福寺 舞妓はん撮影会
DESCRIPTION:地域: 京都\n花街: 祇園甲部\n会場: 京都 萬福寺\n詳細日時: 2026/06/13(土)\n10:30\n詳細情報: https://order.yodobashi.com/ec/event/calendar.do?masterCode=T00000521&amp;planCode=T0000002201&amp;couponMode=\n詳細: https://www.maikogeisha.com/events/%e7%ac%ac8%e5%9b%9e-%e4%ba%ac%e9%83%bd-%e8%90%ac%e7%a6%8f%e5%af%ba-%e8%88%9e%e5%a6%93%e3%81%af%e3%82%93%e6%92%ae%e5%bd%b1%e4%bc%9a/
LOCATION:京都 萬福寺
URL:https://www.maikogeisha.com/events/%e7%ac%ac8%e5%9b%9e-%e4%ba%ac%e9%83%bd-%e8%90%ac%e7%a6%8f%e5%af%ba-%e8%88%9e%e5%a6%93%e3%81%af%e3%82%93%e6%92%ae%e5%bd%b1%e4%bc%9a/
END:VEVENT
END:VCALENDAR
