BEGIN:VCALENDAR
VERSION:2.0
PRODID:-//Kagai Event News//WordPress//JA
CALSCALE:GREGORIAN
METHOD:PUBLISH
BEGIN:VTIMEZONE
TZID:Asia/Tokyo
BEGIN:STANDARD
DTSTART:19700101T000000
TZOFFSETFROM:+0900
TZOFFSETTO:+0900
TZNAME:JST
END:STANDARD
END:VTIMEZONE
BEGIN:VEVENT
UID:9d3295f3cd07f488511b653d3dc03e5e@kagai-event-news.com
DTSTAMP:20260419T152944Z
DTSTART;TZID=Asia/Tokyo:20260411T130000
DTEND;TZID=Asia/Tokyo:20260711T000000
SUMMARY:浅草芸者のお座敷おどり 2026年春
DESCRIPTION:地域: 東京\n花街: 浅草\n会場: 浅草文化観光センター\n開催日程: 6日程\n&#8211; 2026-04-11 00:00:00\n&#8211; 2026-06-06 00:00:00\n&#8211; 2026-06-13 00:00:00\n&#8230; 他3日程\n開催時間: 13:00, 14:30\n詳細日時: 2026/04/11(土)\n06/06(土)13(土)20(土)\n07/04(土)11(土)\n1日2回 13:00/14:30\n詳細情報: https://asakusakenban.com/information/\n詳細: https://www.maikogeisha.com/events/%e6%b5%85%e8%8d%89%e8%8a%b8%e8%80%85%e3%81%ae%e3%81%8a%e5%ba%a7%e6%95%b7%e3%81%8a%e3%81%a9%e3%82%8a-2026%e5%b9%b4%e6%98%a5/
LOCATION:浅草文化観光センター
URL:https://www.maikogeisha.com/events/%e6%b5%85%e8%8d%89%e8%8a%b8%e8%80%85%e3%81%ae%e3%81%8a%e5%ba%a7%e6%95%b7%e3%81%8a%e3%81%a9%e3%82%8a-2026%e5%b9%b4%e6%98%a5/
END:VEVENT
END:VCALENDAR
