BEGIN:VCALENDAR
VERSION:2.0
PRODID:-//Kagai Event News//WordPress//JA
CALSCALE:GREGORIAN
METHOD:PUBLISH
BEGIN:VTIMEZONE
TZID:Asia/Tokyo
BEGIN:STANDARD
DTSTART:19700101T000000
TZOFFSETFROM:+0900
TZOFFSETTO:+0900
TZNAME:JST
END:STANDARD
END:VTIMEZONE
BEGIN:VEVENT
UID:87a105e54cba69bb83452432b10e8e26@kagai-event-news.com
DTSTAMP:20260419T153131Z
DTSTART;TZID=Asia/Tokyo:20260516T140000
DTEND;TZID=Asia/Tokyo:20260516T150000
SUMMARY:毘沙門天で“お座敷ライブ”
DESCRIPTION:地域: 東京\n花街: 神楽坂\n会場: 毘沙門天善國寺 書院\n詳細日時: 2026/05/16(土)\n14:00\n詳細情報: https://kaguramachi.jp/program/geisha-traditional-performing-artists-live-performance/?lang=ja\n詳細: https://www.maikogeisha.com/events/%e6%af%98%e6%b2%99%e9%96%80%e5%a4%a9%e3%81%a7%e3%81%8a%e5%ba%a7%e6%95%b7%e3%83%a9%e3%82%a4%e3%83%96/
LOCATION:毘沙門天善國寺 書院
URL:https://www.maikogeisha.com/events/%e6%af%98%e6%b2%99%e9%96%80%e5%a4%a9%e3%81%a7%e3%81%8a%e5%ba%a7%e6%95%b7%e3%83%a9%e3%82%a4%e3%83%96/
END:VEVENT
END:VCALENDAR
