BEGIN:VCALENDAR
VERSION:2.0
PRODID:-//Kagai Event News//WordPress//JA
CALSCALE:GREGORIAN
METHOD:PUBLISH
BEGIN:VTIMEZONE
TZID:Asia/Tokyo
BEGIN:STANDARD
DTSTART:19700101T000000
TZOFFSETFROM:+0900
TZOFFSETTO:+0900
TZNAME:JST
END:STANDARD
END:VTIMEZONE
BEGIN:VEVENT
UID:1893d364c646e894c5d763f32a3e2862@kagai-event-news.com
DTSTAMP:20260419T153244Z
DTSTART;TZID=Asia/Tokyo:20260530T123000
DTEND;TZID=Asia/Tokyo:20260531T143000
SUMMARY:伝承のたまてばこ
DESCRIPTION:地域: 東京\n花街: 八王子\n会場: 八王子 中町公園\n開催日程: 2日程\n&#8211; 2026-05-30 00:00:00\n&#8211; 2026-05-31 00:00:00\n開催時間: 12:30, 14:30\n詳細日時: 2026/05/30(土)31(日)\n1日2回 12:30/14:30\n詳細情報: https://denshonotamatebako.tokyo/\n詳細: https://www.maikogeisha.com/events/%e4%bc%9d%e6%89%bf%e3%81%ae%e3%81%9f%e3%81%be%e3%81%a6%e3%81%b0%e3%81%93/
LOCATION:八王子 中町公園
URL:https://www.maikogeisha.com/events/%e4%bc%9d%e6%89%bf%e3%81%ae%e3%81%9f%e3%81%be%e3%81%a6%e3%81%b0%e3%81%93/
END:VEVENT
END:VCALENDAR
